BEGIN:VCALENDAR
VERSION:2.0
PRODID:-//jEvents 2.0 for Joomla//EN
CALSCALE:GREGORIAN
METHOD:PUBLISH
BEGIN:VTIMEZONE
TZID:Europe/Berlin
END:VTIMEZONE
BEGIN:VEVENT
UID:2ebb0da9df0be4ce8a8df34ba90a9876
CATEGORIES:Auswärts
CREATED:20240913T001033
SUMMARY:RWK Auflage gegen Kinsau in Schwabniederhofen
DESCRIPTION:
DTSTAMP:20260420T061938
DTSTART;TZID=Europe/Berlin:20250127T183000
SEQUENCE:0
TRANSP:OPAQUE
END:VEVENT
END:VCALENDAR