BEGIN:VCALENDAR
VERSION:2.0
PRODID:-//jEvents 2.0 for Joomla//EN
CALSCALE:GREGORIAN
METHOD:PUBLISH
BEGIN:VTIMEZONE
TZID:Europe/Berlin
END:VTIMEZONE
BEGIN:VEVENT
UID:7da2d7abd3e78006012f6ea907240cd7
CATEGORIES:Auswärts
CREATED:20240913T001213
SUMMARY:RWK Auflage gegen Apfeldorf in Kinsau
DESCRIPTION:
DTSTAMP:20260420T061830
DTSTART;TZID=Europe/Berlin:20250210T183000
SEQUENCE:0
TRANSP:OPAQUE
END:VEVENT
END:VCALENDAR