BEGIN:VCALENDAR
VERSION:2.0
PRODID:-//jEvents 2.0 for Joomla//EN
CALSCALE:GREGORIAN
METHOD:PUBLISH
BEGIN:VTIMEZONE
TZID:Europe/Berlin
END:VTIMEZONE
BEGIN:VEVENT
UID:b7d5b0c5b274a25d913c6a3ceb6f0361
CATEGORIES:Auswärts
CREATED:20240913T001338
SUMMARY:RWK Auflage (frei) in Böbing
DESCRIPTION:
DTSTAMP:20260420T061728
DTSTART;TZID=Europe/Berlin:20250224T183000
SEQUENCE:0
TRANSP:OPAQUE
END:VEVENT
END:VCALENDAR