BEGIN:VCALENDAR
VERSION:2.0
PRODID:-//jEvents 2.0 for Joomla//EN
CALSCALE:GREGORIAN
METHOD:PUBLISH
BEGIN:VTIMEZONE
TZID:Europe/Berlin
END:VTIMEZONE
BEGIN:VEVENT
UID:bcc9cab1eecca4a49f4900c1c735256a
CATEGORIES:Auswärts
CREATED:20240913T001508
SUMMARY:RWK Auflage gegen Schwabniederhofen in Apfeldorf
DESCRIPTION:
DTSTAMP:20260420T061122
DTSTART;TZID=Europe/Berlin:20250310T183000
SEQUENCE:0
TRANSP:OPAQUE
END:VEVENT
END:VCALENDAR