BEGIN:VCALENDAR
VERSION:2.0
PRODID:-//jEvents 2.0 for Joomla//EN
CALSCALE:GREGORIAN
METHOD:PUBLISH
BEGIN:VTIMEZONE
TZID:Europe/Berlin
END:VTIMEZONE
BEGIN:VEVENT
UID:9469e569ae9fe5fb12867bbc6640a5d7
CATEGORIES:Auswärts
CREATED:20240913T001730
SUMMARY:RWK Auflage gegen Böbing in Kinsau
DESCRIPTION:
DTSTAMP:20260420T061830
DTSTART;TZID=Europe/Berlin:20250324T183000
SEQUENCE:0
TRANSP:OPAQUE
END:VEVENT
END:VCALENDAR