BEGIN:VCALENDAR
VERSION:2.0
PRODID:-//jEvents 2.0 for Joomla//EN
CALSCALE:GREGORIAN
METHOD:PUBLISH
BEGIN:VTIMEZONE
TZID:Europe/Berlin
END:VTIMEZONE
BEGIN:VEVENT
UID:e1847aae51ca29e32974d463d31772ef
CATEGORIES:Haus der Vereine Epfach
CREATED:20241021T135945
SUMMARY:Preisverteilung und Königsproklamation
DESCRIPTION:
DTSTAMP:20260420T061938
DTSTART;TZID=Europe/Berlin:20250118T190000
SEQUENCE:0
TRANSP:OPAQUE
END:VEVENT
END:VCALENDAR