BEGIN:VCALENDAR
VERSION:2.0
PRODID:-//jEvents 2.0 for Joomla//EN
CALSCALE:GREGORIAN
METHOD:PUBLISH
BEGIN:VTIMEZONE
TZID:Europe/Berlin
END:VTIMEZONE
BEGIN:VEVENT
UID:71b7051f01b542cc95f5ed2bdf7b44ec
CATEGORIES:Auswärts
CREATED:20250407T181431
SUMMARY:Schützengrillen
DESCRIPTION:
DTSTAMP:20260420T080531
DTSTART;TZID=Europe/Berlin:20250628T190000
SEQUENCE:0
TRANSP:OPAQUE
END:VEVENT
END:VCALENDAR