BEGIN:VCALENDAR
VERSION:2.0
PRODID:-//jEvents 2.0 for Joomla//EN
CALSCALE:GREGORIAN
METHOD:PUBLISH
BEGIN:VTIMEZONE
TZID:Europe/Berlin
END:VTIMEZONE
BEGIN:VEVENT
UID:1abe0c7e537211b27e546fbf97553750
CATEGORIES:Auswärts
CREATED:20250407T181557
SUMMARY:Preisverteilung RWK (Turnhalle Mittelschule Steingaden)
DESCRIPTION:
DTSTAMP:20260420T061122
DTSTART;TZID=Europe/Berlin:20250414T200000
SEQUENCE:0
TRANSP:OPAQUE
END:VEVENT
END:VCALENDAR