BEGIN:VCALENDAR
VERSION:2.0
PRODID:-//jEvents 2.0 for Joomla//EN
CALSCALE:GREGORIAN
METHOD:PUBLISH
BEGIN:VTIMEZONE
TZID:Europe/Berlin
END:VTIMEZONE
BEGIN:VEVENT
UID:08f8c5c1b69161f3b4e2996686a561d9
CATEGORIES:Haus der Vereine Epfach
CREATED:20250407T181708
SUMMARY:Ramadama
DESCRIPTION:
DTSTAMP:20260420T061121
DTSTART;TZID=Europe/Berlin:20250503T090000
DTEND;TZID=Europe/Berlin:20250503T140000
SEQUENCE:0
TRANSP:OPAQUE
END:VEVENT
END:VCALENDAR