BEGIN:VCALENDAR
VERSION:2.0
PRODID:-//jEvents 2.0 for Joomla//EN
CALSCALE:GREGORIAN
METHOD:PUBLISH
BEGIN:VTIMEZONE
TZID:Europe/Berlin
END:VTIMEZONE
BEGIN:VEVENT
UID:0799aa9b05c38d5d9347503aaa9271e9
CATEGORIES:Auswärts
CREATED:20250407T181747
SUMMARY:RWK Sitzung
DESCRIPTION:
DTSTAMP:20260420T061727
DTSTART;TZID=Europe/Berlin:20250508T193000
SEQUENCE:0
TRANSP:OPAQUE
END:VEVENT
END:VCALENDAR