BEGIN:VCALENDAR
VERSION:2.0
PRODID:-//jEvents 2.0 for Joomla//EN
CALSCALE:GREGORIAN
METHOD:PUBLISH
BEGIN:VTIMEZONE
TZID:Europe/Berlin
END:VTIMEZONE
BEGIN:VEVENT
UID:55657fbdc1fe10991b949778c47421d5
CATEGORIES:Auswärts
CREATED:19700101T010000
SUMMARY:LG/LP Gauschießen (Schwabsoien)
DESCRIPTION:<p><a href="https://www.schwabsoien.de/vereine/schwabsoien/schuetzenverein"
 >Soien Feiert</a></p><p>&nbsp;</p><p>&nbsp;</p>
DTSTAMP:20260420T061727
DTSTART;TZID=Europe/Berlin;VALUE=DATE:20250516
DTEND;TZID=Europe/Berlin;VALUE=DATE:20250517
SEQUENCE:0
RRULE:FREQ=DAILY;UNTIL=20250525T000000Z;INTERVAL=1
TRANSP:OPAQUE
END:VEVENT
END:VCALENDAR