BEGIN:VCALENDAR
VERSION:2.0
PRODID:-//jEvents 2.0 for Joomla//EN
CALSCALE:GREGORIAN
METHOD:PUBLISH
BEGIN:VTIMEZONE
TZID:Europe/Berlin
END:VTIMEZONE
BEGIN:VEVENT
UID:d896210c40256f16871c1b1227b53185
CATEGORIES:Auswärts
CREATED:20250914T195318
SUMMARY:Dorfadvent
DESCRIPTION:
DTSTAMP:20260420T062030
DTSTART;TZID=Europe/Berlin:20251213T160000
DTEND;TZID=Europe/Berlin:20251213T230000
SEQUENCE:0
TRANSP:OPAQUE
END:VEVENT
END:VCALENDAR