BEGIN:VCALENDAR
VERSION:2.0
PRODID:-//jEvents 2.0 for Joomla//EN
CALSCALE:GREGORIAN
METHOD:PUBLISH
BEGIN:VTIMEZONE
TZID:Europe/Berlin
END:VTIMEZONE
BEGIN:VEVENT
UID:e227a5106dc35d77c3369f121b822105
CATEGORIES:Auswärts
CREATED:20250914T195412
SUMMARY:Königsproklamation
DESCRIPTION:
DTSTAMP:20260419T171528
DTSTART;TZID=Europe/Berlin:20260124T200000
SEQUENCE:0
TRANSP:OPAQUE
END:VEVENT
END:VCALENDAR