BEGIN:VCALENDAR
VERSION:2.0
PRODID:-//jEvents 2.0 for Joomla//EN
CALSCALE:GREGORIAN
METHOD:PUBLISH
BEGIN:VTIMEZONE
TZID:Europe/Berlin
END:VTIMEZONE
BEGIN:VEVENT
UID:d30908849d86d93403f00660562e075e
CATEGORIES:Schützenheim Epfach
CREATED:20250914T204305
SUMMARY:Rundenwettkampf Epfach 2 Ingenried 3
DESCRIPTION:
DTSTAMP:20260420T075423
DTSTART;TZID=Europe/Berlin:20251016T200000
SEQUENCE:0
TRANSP:OPAQUE
END:VEVENT
END:VCALENDAR