BEGIN:VCALENDAR
VERSION:2.0
PRODID:-//jEvents 2.0 for Joomla//EN
CALSCALE:GREGORIAN
METHOD:PUBLISH
BEGIN:VTIMEZONE
TZID:Europe/Berlin
END:VTIMEZONE
BEGIN:VEVENT
UID:1ed51861458ef0c06eba7dd25b5ac51c
CATEGORIES:Auswärts
CREATED:20250914T204347
SUMMARY:Rundenwettkampf Kinsau 3 Epfach 2
DESCRIPTION:
DTSTAMP:20260420T080541
DTSTART;TZID=Europe/Berlin:20251023T200000
SEQUENCE:0
TRANSP:OPAQUE
END:VEVENT
END:VCALENDAR