BEGIN:VCALENDAR
VERSION:2.0
PRODID:-//jEvents 2.0 for Joomla//EN
CALSCALE:GREGORIAN
METHOD:PUBLISH
BEGIN:VTIMEZONE
TZID:Europe/Berlin
END:VTIMEZONE
BEGIN:VEVENT
UID:411c22a39af699e70ba28a6c89808c64
CATEGORIES:Auswärts
CREATED:20250914T204629
SUMMARY:Rundenwettkampf Tannenberg 2 Epfach 2
DESCRIPTION:
DTSTAMP:20260420T080234
DTSTART;TZID=Europe/Berlin:20251106T200000
SEQUENCE:0
TRANSP:OPAQUE
END:VEVENT
END:VCALENDAR