BEGIN:VCALENDAR
VERSION:2.0
PRODID:-//jEvents 2.0 for Joomla//EN
CALSCALE:GREGORIAN
METHOD:PUBLISH
BEGIN:VTIMEZONE
TZID:Europe/Berlin
END:VTIMEZONE
BEGIN:VEVENT
UID:0cf7a5bc5bfac7436a15ecb2c8dd59cb
CATEGORIES:Auswärts
CREATED:20250914T204853
SUMMARY:Rundenwettkampf Ingenried 3 Epfach 2
DESCRIPTION:
DTSTAMP:20260419T171705
DTSTART;TZID=Europe/Berlin:20260219T200000
SEQUENCE:0
TRANSP:OPAQUE
END:VEVENT
END:VCALENDAR