BEGIN:VCALENDAR
VERSION:2.0
PRODID:-//jEvents 2.0 for Joomla//EN
CALSCALE:GREGORIAN
METHOD:PUBLISH
BEGIN:VTIMEZONE
TZID:Europe/Berlin
END:VTIMEZONE
BEGIN:VEVENT
UID:2074b86ffa59b77d62445f0c14d41c85
CATEGORIES:Schützenheim Epfach
CREATED:20250914T204955
SUMMARY:Rundenwettkampf Epfach 2 Kinsau 3
DESCRIPTION:
DTSTAMP:20260419T171527
DTSTART;TZID=Europe/Berlin:20260226T200000
SEQUENCE:0
TRANSP:OPAQUE
END:VEVENT
END:VCALENDAR