BEGIN:VCALENDAR
VERSION:2.0
PRODID:-//jEvents 2.0 for Joomla//EN
CALSCALE:GREGORIAN
METHOD:PUBLISH
BEGIN:VTIMEZONE
TZID:Europe/Berlin
END:VTIMEZONE
BEGIN:VEVENT
UID:3b7fe1ac27aa21eed26bdf835b032712
CATEGORIES:Auswärts
CREATED:20250914T205212
SUMMARY:Rundenwettkampf Burggen 3 Epfach 2
DESCRIPTION:
DTSTAMP:20260419T171528
DTSTART;TZID=Europe/Berlin:20260305T200000
SEQUENCE:0
TRANSP:OPAQUE
END:VEVENT
END:VCALENDAR