BEGIN:VCALENDAR
VERSION:2.0
PRODID:-//jEvents 2.0 for Joomla//EN
CALSCALE:GREGORIAN
METHOD:PUBLISH
BEGIN:VTIMEZONE
TZID:Europe/Berlin
END:VTIMEZONE
BEGIN:VEVENT
UID:7463cd8da00adc9091be3f297e9df58d
CATEGORIES:Schützenheim Epfach
CREATED:20250914T205333
SUMMARY:Rundenwettkampf Epfach 2 Apfeldorf 2 
DESCRIPTION:
DTSTAMP:20260419T171624
DTSTART;TZID=Europe/Berlin:20260319T200000
SEQUENCE:0
TRANSP:OPAQUE
END:VEVENT
END:VCALENDAR