BEGIN:VCALENDAR
VERSION:2.0
PRODID:-//jEvents 2.0 for Joomla//EN
CALSCALE:GREGORIAN
METHOD:PUBLISH
BEGIN:VTIMEZONE
TZID:Europe/Berlin
END:VTIMEZONE
BEGIN:VEVENT
UID:30d8d5566ef82fbc526b5348cbc77ab5
CATEGORIES:Schützenheim Epfach
CREATED:20250914T210220
SUMMARY:Rundenwettkampf Epfach 1 Bayersoien 2
DESCRIPTION:
DTSTAMP:20260420T075430
DTSTART;TZID=Europe/Berlin:20251016T200000
SEQUENCE:0
TRANSP:OPAQUE
END:VEVENT
END:VCALENDAR