BEGIN:VCALENDAR
VERSION:2.0
PRODID:-//jEvents 2.0 for Joomla//EN
CALSCALE:GREGORIAN
METHOD:PUBLISH
BEGIN:VTIMEZONE
TZID:Europe/Berlin
END:VTIMEZONE
BEGIN:VEVENT
UID:ab6ec6bde81e9fecb4c60d61008552c7
CATEGORIES:Auswärts
CREATED:20250914T210436
SUMMARY:Rundenwettkampf Prem 5 Epfach 1
DESCRIPTION:
DTSTAMP:20260420T080227
DTSTART;TZID=Europe/Berlin:20251023T200000
SEQUENCE:0
TRANSP:OPAQUE
END:VEVENT
END:VCALENDAR