BEGIN:VCALENDAR
VERSION:2.0
PRODID:-//jEvents 2.0 for Joomla//EN
CALSCALE:GREGORIAN
METHOD:PUBLISH
BEGIN:VTIMEZONE
TZID:Europe/Berlin
END:VTIMEZONE
BEGIN:VEVENT
UID:c1fb48185a7d09c52399ea261b1ec27b
CATEGORIES:Schützenheim Epfach
CREATED:20250914T210543
SUMMARY:Rundenwettkampf Epfach 1 Altenstadt 1
DESCRIPTION:
DTSTAMP:20260420T075430
DTSTART;TZID=Europe/Berlin:20251030T200000
SEQUENCE:0
TRANSP:OPAQUE
END:VEVENT
END:VCALENDAR