BEGIN:VCALENDAR
VERSION:2.0
PRODID:-//jEvents 2.0 for Joomla//EN
CALSCALE:GREGORIAN
METHOD:PUBLISH
BEGIN:VTIMEZONE
TZID:Europe/Berlin
END:VTIMEZONE
BEGIN:VEVENT
UID:9871b173a262965a11e794067aaffda1
CATEGORIES:Auswärts
CREATED:20250914T210622
SUMMARY:Rundenwettkampf Tannenberg 1 Epfach 1
DESCRIPTION:
DTSTAMP:20260420T080136
DTSTART;TZID=Europe/Berlin:20251106T200000
SEQUENCE:0
TRANSP:OPAQUE
END:VEVENT
END:VCALENDAR