BEGIN:VCALENDAR
VERSION:2.0
PRODID:-//jEvents 2.0 for Joomla//EN
CALSCALE:GREGORIAN
METHOD:PUBLISH
BEGIN:VTIMEZONE
TZID:Europe/Berlin
END:VTIMEZONE
BEGIN:VEVENT
UID:d2901a7e4ff604f4a5013dc90b004eaa
CATEGORIES:Auswärts
CREATED:20250914T211020
SUMMARY:Rundenwettkampf Bayersoien 2 Epfach 1
DESCRIPTION:
DTSTAMP:20260419T171705
DTSTART;TZID=Europe/Berlin:20260219T200000
SEQUENCE:0
TRANSP:OPAQUE
END:VEVENT
END:VCALENDAR