BEGIN:VCALENDAR
VERSION:2.0
PRODID:-//jEvents 2.0 for Joomla//EN
CALSCALE:GREGORIAN
METHOD:PUBLISH
BEGIN:VTIMEZONE
TZID:Europe/Berlin
END:VTIMEZONE
BEGIN:VEVENT
UID:87a6810523fb337ca26d45e7b422d11a
CATEGORIES:Schützenheim Epfach
CREATED:20250914T211104
SUMMARY:Rundenwettkampf Epfach 1 Prem 5
DESCRIPTION:
DTSTAMP:20260419T171451
DTSTART;TZID=Europe/Berlin:20260226T200000
SEQUENCE:0
TRANSP:OPAQUE
END:VEVENT
END:VCALENDAR