BEGIN:VCALENDAR
VERSION:2.0
PRODID:-//jEvents 2.0 for Joomla//EN
CALSCALE:GREGORIAN
METHOD:PUBLISH
BEGIN:VTIMEZONE
TZID:Europe/Berlin
END:VTIMEZONE
BEGIN:VEVENT
UID:a58781db836027ac7132bec5b843f653
CATEGORIES:Auswärts
CREATED:20250914T211204
SUMMARY:Rundenwettkampf Altenstadt 1 Epfach 1
DESCRIPTION:
DTSTAMP:20260419T171451
DTSTART;TZID=Europe/Berlin:20260305T200000
SEQUENCE:0
TRANSP:OPAQUE
END:VEVENT
END:VCALENDAR