BEGIN:VCALENDAR
VERSION:2.0
PRODID:-//jEvents 2.0 for Joomla//EN
CALSCALE:GREGORIAN
METHOD:PUBLISH
BEGIN:VTIMEZONE
TZID:Europe/Berlin
END:VTIMEZONE
BEGIN:VEVENT
UID:aaf8b33a20c0d0ae9b7bf729ffd6443c
CATEGORIES:Schützenheim Epfach
CREATED:20250914T211243
SUMMARY:Rundenwettkampf Epfach 1 Tannenberg 1
DESCRIPTION:
DTSTAMP:20260419T171705
DTSTART;TZID=Europe/Berlin:20260312T200000
SEQUENCE:0
TRANSP:OPAQUE
END:VEVENT
END:VCALENDAR