BEGIN:VCALENDAR
VERSION:2.0
PRODID:-//jEvents 2.0 for Joomla//EN
CALSCALE:GREGORIAN
METHOD:PUBLISH
BEGIN:VTIMEZONE
TZID:Europe/Berlin
END:VTIMEZONE
BEGIN:VEVENT
UID:5a86163a444532c4ced07663ad63127c
CATEGORIES:Schützenheim Epfach
CREATED:20250914T211330
SUMMARY:Rundenwettkampf Epfach 1 Peiting 3
DESCRIPTION:
DTSTAMP:20260419T171528
DTSTART;TZID=Europe/Berlin:20260319T200000
SEQUENCE:0
TRANSP:OPAQUE
END:VEVENT
END:VCALENDAR