BEGIN:VCALENDAR
VERSION:2.0
PRODID:-//jEvents 2.0 for Joomla//EN
CALSCALE:GREGORIAN
METHOD:PUBLISH
BEGIN:VTIMEZONE
TZID:Europe/Berlin
END:VTIMEZONE
BEGIN:VEVENT
UID:ec97422dc7d694d4e579dbce875091f9
CATEGORIES:Schützenheim Epfach
CREATED:20250914T214045
SUMMARY:Rundenwettkampf Auflage Epfach 1 Böbing 1
DESCRIPTION:
DTSTAMP:20260420T075423
DTSTART;TZID=Europe/Berlin:20251006T200000
SEQUENCE:0
TRANSP:OPAQUE
END:VEVENT
END:VCALENDAR