BEGIN:VCALENDAR
VERSION:2.0
PRODID:-//jEvents 2.0 for Joomla//EN
CALSCALE:GREGORIAN
METHOD:PUBLISH
BEGIN:VTIMEZONE
TZID:Europe/Berlin
END:VTIMEZONE
BEGIN:VEVENT
UID:267e918c1e55064df249e88ab0ae553a
CATEGORIES:Auswärts
CREATED:20250914T214245
SUMMARY:Rundenwettkampf Auflage Schwabniederhofen 1 Epfach 1
DESCRIPTION:
DTSTAMP:20260420T080233
DTSTART;TZID=Europe/Berlin:20251020T200000
SEQUENCE:0
TRANSP:OPAQUE
END:VEVENT
END:VCALENDAR