BEGIN:VCALENDAR
VERSION:2.0
PRODID:-//jEvents 2.0 for Joomla//EN
CALSCALE:GREGORIAN
METHOD:PUBLISH
BEGIN:VTIMEZONE
TZID:Europe/Berlin
END:VTIMEZONE
BEGIN:VEVENT
UID:613827ac908a81f444cff6da3263a6fe
CATEGORIES:Schützenheim Epfach
CREATED:20250914T214424
SUMMARY:Rundenwettkampf Auflage Epfach 1 Apfeldorf 1
DESCRIPTION:
DTSTAMP:20260420T061727
DTSTART;TZID=Europe/Berlin:20251201T200000
SEQUENCE:0
TRANSP:OPAQUE
END:VEVENT
END:VCALENDAR