BEGIN:VCALENDAR
VERSION:2.0
PRODID:-//jEvents 2.0 for Joomla//EN
CALSCALE:GREGORIAN
METHOD:PUBLISH
BEGIN:VTIMEZONE
TZID:Europe/Berlin
END:VTIMEZONE
BEGIN:VEVENT
UID:b615420eaa15ce1bb4a7d8ba197811f5
CATEGORIES:Schützenheim Epfach
CREATED:20250914T214553
SUMMARY:Rundenwettkampf Auflage Böbing 1 Epfach 1
DESCRIPTION:
DTSTAMP:20260419T171527
DTSTART;TZID=Europe/Berlin:20260126T183000
SEQUENCE:0
TRANSP:OPAQUE
END:VEVENT
END:VCALENDAR