BEGIN:VCALENDAR
VERSION:2.0
PRODID:-//jEvents 2.0 for Joomla//EN
CALSCALE:GREGORIAN
METHOD:PUBLISH
BEGIN:VTIMEZONE
TZID:Europe/Berlin
END:VTIMEZONE
BEGIN:VEVENT
UID:a59630952dac140ecb31ad68ab06790f
CATEGORIES:Auswärts
CREATED:20250914T214643
SUMMARY:Rundenwettkampf Auflage Epfach 1 Schwabniederhofen 1 in Böbing
DESCRIPTION:
DTSTAMP:20260419T171528
DTSTART;TZID=Europe/Berlin:20260209T183000
SEQUENCE:0
TRANSP:OPAQUE
END:VEVENT
END:VCALENDAR