BEGIN:VCALENDAR
VERSION:2.0
PRODID:-//jEvents 2.0 for Joomla//EN
CALSCALE:GREGORIAN
METHOD:PUBLISH
BEGIN:VTIMEZONE
TZID:Europe/Berlin
END:VTIMEZONE
BEGIN:VEVENT
UID:b2e3a4aa0d26beddc115f46e72907f0a
CATEGORIES:Auswärts
CREATED:20250914T214724
SUMMARY:Rundenwettkampf Auflage Epfach 1 - Apfeldorf 1 in Apfeldorf
DESCRIPTION:
DTSTAMP:20260419T171624
DTSTART;TZID=Europe/Berlin:20260223T183000
SEQUENCE:0
TRANSP:OPAQUE
END:VEVENT
END:VCALENDAR