BEGIN:VCALENDAR
VERSION:2.0
PRODID:-//jEvents 2.0 for Joomla//EN
CALSCALE:GREGORIAN
METHOD:PUBLISH
BEGIN:VTIMEZONE
TZID:Europe/Berlin
END:VTIMEZONE
BEGIN:VEVENT
UID:db88612301814c14e9e4af34f496ee07
CATEGORIES:Auswärts
CREATED:20250914T214829
SUMMARY:Rundenwettkampf Auflage Epfach 1 Prem 1 in Prem
DESCRIPTION:
DTSTAMP:20260419T171705
DTSTART;TZID=Europe/Berlin:20260323T183000
SEQUENCE:0
TRANSP:OPAQUE
END:VEVENT
END:VCALENDAR