BEGIN:VCALENDAR
VERSION:2.0
PRODID:-//jEvents 2.0 for Joomla//EN
CALSCALE:GREGORIAN
METHOD:PUBLISH
BEGIN:VTIMEZONE
TZID:Europe/Berlin
END:VTIMEZONE
BEGIN:VEVENT
UID:d084444c0dd86c59eedd475e5dc3e7f8
CATEGORIES:Schützenheim Epfach
CREATED:20250915T093412
SUMMARY:Ausschusssitzung
DESCRIPTION:
DTSTAMP:20260420T075430
DTSTART;TZID=Europe/Berlin:20251022T200000
SEQUENCE:0
TRANSP:OPAQUE
END:VEVENT
END:VCALENDAR