BEGIN:VCALENDAR
VERSION:2.0
PRODID:-//jEvents 2.0 for Joomla//EN
CALSCALE:GREGORIAN
METHOD:PUBLISH
BEGIN:VTIMEZONE
TZID:Europe/Berlin
END:VTIMEZONE
BEGIN:VEVENT
UID:e99ec545f49910815121801f073b8065
CATEGORIES:Auswärts
CREATED:20260126T082845
SUMMARY:Sparkassencup in Schwabniederhofen
DESCRIPTION:
DTSTAMP:20260419T153008
DTSTART;TZID=Europe/Berlin:20260224T190000
SEQUENCE:0
TRANSP:OPAQUE
END:VEVENT
END:VCALENDAR