BEGIN:VCALENDAR
VERSION:2.0
PRODID:-//jEvents 2.0 for Joomla//EN
CALSCALE:GREGORIAN
METHOD:PUBLISH
BEGIN:VTIMEZONE
TZID:Europe/Berlin
END:VTIMEZONE
BEGIN:VEVENT
UID:6de067bf38bab4bfc5bf43aaa92c5671
CATEGORIES:Auswärts
CREATED:20260220T074618
SUMMARY:Gaumeisterschaft
LOCATION:Apfeldorf
DESCRIPTION:
DTSTAMP:20260419T153007
DTSTART;TZID=Europe/Berlin:20260221T160000
DTEND;TZID=Europe/Berlin:20260221T200000
SEQUENCE:0
TRANSP:OPAQUE
END:VEVENT
END:VCALENDAR