BEGIN:VCALENDAR
VERSION:2.0
PRODID:-//jEvents 2.0 for Joomla//EN
CALSCALE:GREGORIAN
METHOD:PUBLISH
BEGIN:VTIMEZONE
TZID:Europe/Berlin
END:VTIMEZONE
BEGIN:VEVENT
UID:55657fbdc1fe10991b949778c47421d5
CATEGORIES:Auswärts
CREATED:20250407T181926
SUMMARY:LG/LP Gauschießen (Schwabsoien)
DESCRIPTION:Soien Feiert (https://www.schwabsoien.de/vereine/schwabsoien/schuetzenverei
 n)\n \n \n
X-ALT-DESC;FMTTYPE=text/html:<p><a href="https://www.schwabsoien.de/vereine/schwabsoien/schuetzenverein"
 >Soien Feiert</a></p><p>&nbsp;</p><p>&nbsp;</p>
DTSTAMP:20260420T080111
DTSTART;TZID=Europe/Berlin;VALUE=DATE:20250525
DTEND;TZID=Europe/Berlin;VALUE=DATE:20250526
SEQUENCE:0
TRANSP:OPAQUE
END:VEVENT
END:VCALENDAR