BEGIN:VCALENDAR
VERSION:2.0
PRODID:-//jEvents 2.0 for Joomla//EN
CALSCALE:GREGORIAN
METHOD:PUBLISH
BEGIN:VTIMEZONE
TZID:Europe/Berlin
END:VTIMEZONE
BEGIN:VEVENT
UID:6c994cfc0062293268a91829411f1727
CATEGORIES:Schützenheim Epfach
CREATED:20250914T193036
SUMMARY:Training (Arnet Calvin)
DESCRIPTION:
DTSTAMP:20260419T171624
DTSTART;TZID=Europe/Berlin:20260310T190000
SEQUENCE:0
RRULE:FREQ=WEEKLY;UNTIL=20260325T000000Z;INTERVAL=1;BYDAY=TU
EXDATE;TZID=Europe/Berlin:20251111T190000,20251223T190000,20251230T190000,20260217T190000,20260106T19
 0000,20260224T190000
TRANSP:OPAQUE
END:VEVENT
BEGIN:VEVENT
UID:6c994cfc0062293268a91829411f1727
CATEGORIES:Schützenheim Epfach
CREATED:20250914T193036
SUMMARY:Königsschießen (Volk Wolfgang)
DESCRIPTION:
URL;VALUE=URI:http://sv.abodiacum-epfach.de/termine/icalrepeat.detail/2025/11/11/1237/-/k
 oenigsschiessen-volk-wolfgang.html?tmpl=component

DTSTAMP:20260419T171624
DTSTART;TZID=Europe/Berlin:20251111T190000
DTEND;TZID=Europe/Berlin:20251111T235959
RECURRENCE-ID;TZID=Europe/Berlin:20251104T190000
SEQUENCE:0
TRANSP:OPAQUE
END:VEVENT
BEGIN:VEVENT
UID:6c994cfc0062293268a91829411f1727
CATEGORIES:Schützenheim Epfach
CREATED:20250914T193036
SUMMARY:Anfangsschießen (Arnet Calvin)
DESCRIPTION:
URL;VALUE=URI:http://sv.abodiacum-epfach.de/termine/icalrepeat.detail/2025/09/16/1230/-/a
 nfangsschiessen-arnet-calvin.html?tmpl=component

DTSTAMP:20260419T171624
DTSTART;TZID=Europe/Berlin:20250916T190000
DTEND;TZID=Europe/Berlin:20250916T235959
RECURRENCE-ID;TZID=Europe/Berlin:20250916T190000
SEQUENCE:0
TRANSP:OPAQUE
END:VEVENT
BEGIN:VEVENT
UID:6c994cfc0062293268a91829411f1727
CATEGORIES:Schützenheim Epfach
CREATED:20250914T193036
SUMMARY:Training (Becher Johann)
DESCRIPTION:
URL;VALUE=URI:http://sv.abodiacum-epfach.de/termine/icalrepeat.detail/2025/09/23/1231/-/t
 raining-becher-johann.html?tmpl=component

DTSTAMP:20260419T171624
DTSTART;TZID=Europe/Berlin:20250923T190000
DTEND;TZID=Europe/Berlin:20250923T235959
RECURRENCE-ID;TZID=Europe/Berlin:20250923T190000
SEQUENCE:0
TRANSP:OPAQUE
END:VEVENT
BEGIN:VEVENT
UID:6c994cfc0062293268a91829411f1727
CATEGORIES:Schützenheim Epfach
CREATED:20250914T193036
SUMMARY:Training (Karg Markus)
DESCRIPTION:
URL;VALUE=URI:http://sv.abodiacum-epfach.de/termine/icalrepeat.detail/2025/09/30/1232/-/t
 raining-karg-markus.html?tmpl=component

DTSTAMP:20260419T171624
DTSTART;TZID=Europe/Berlin:20250930T190000
DTEND;TZID=Europe/Berlin:20250930T235959
RECURRENCE-ID;TZID=Europe/Berlin:20250930T190000
SEQUENCE:0
TRANSP:OPAQUE
END:VEVENT
BEGIN:VEVENT
UID:6c994cfc0062293268a91829411f1727
CATEGORIES:Schützenheim Epfach
CREATED:20250914T193036
SUMMARY:Training (Malley Jürgen)
DESCRIPTION:
URL;VALUE=URI:http://sv.abodiacum-epfach.de/termine/icalrepeat.detail/2025/10/07/1233/-/t
 raining-malley-juergen.html?tmpl=component

DTSTAMP:20260419T171624
DTSTART;TZID=Europe/Berlin:20251007T190000
DTEND;TZID=Europe/Berlin:20251007T235959
RECURRENCE-ID;TZID=Europe/Berlin:20251007T190000
SEQUENCE:0
TRANSP:OPAQUE
END:VEVENT
BEGIN:VEVENT
UID:6c994cfc0062293268a91829411f1727
CATEGORIES:Schützenheim Epfach
CREATED:20250914T193036
SUMMARY:Training (Schweiger Eduard)
DESCRIPTION:
URL;VALUE=URI:http://sv.abodiacum-epfach.de/termine/icalrepeat.detail/2025/10/14/1234/-/t
 raining-schweiger-eduard.html?tmpl=component

DTSTAMP:20260419T171624
DTSTART;TZID=Europe/Berlin:20251014T190000
DTEND;TZID=Europe/Berlin:20251014T235959
RECURRENCE-ID;TZID=Europe/Berlin:20251014T190000
SEQUENCE:0
TRANSP:OPAQUE
END:VEVENT
BEGIN:VEVENT
UID:6c994cfc0062293268a91829411f1727
CATEGORIES:Schützenheim Epfach
CREATED:20250914T193036
SUMMARY:Training (Schweiger Florian)
DESCRIPTION:
URL;VALUE=URI:http://sv.abodiacum-epfach.de/termine/icalrepeat.detail/2025/10/21/1235/-/t
 raining-schweiger-florian.html?tmpl=component

DTSTAMP:20260419T171624
DTSTART;TZID=Europe/Berlin:20251021T190000
DTEND;TZID=Europe/Berlin:20251021T235959
RECURRENCE-ID;TZID=Europe/Berlin:20251021T190000
SEQUENCE:0
TRANSP:OPAQUE
END:VEVENT
BEGIN:VEVENT
UID:6c994cfc0062293268a91829411f1727
CATEGORIES:Schützenheim Epfach
CREATED:20250914T193036
SUMMARY:Training (Volk Georg)
DESCRIPTION:
URL;VALUE=URI:http://sv.abodiacum-epfach.de/termine/icalrepeat.detail/2025/10/28/1236/-/t
 raining-volk-georg.html?tmpl=component

DTSTAMP:20260419T171624
DTSTART;TZID=Europe/Berlin:20251028T190000
DTEND;TZID=Europe/Berlin:20251028T235959
RECURRENCE-ID;TZID=Europe/Berlin:20251028T190000
SEQUENCE:0
TRANSP:OPAQUE
END:VEVENT
BEGIN:VEVENT
UID:6c994cfc0062293268a91829411f1727
CATEGORIES:Schützenheim Epfach
CREATED:20250914T193036
SUMMARY:Königsschießen (Geiger Matthäus)
DESCRIPTION:
URL;VALUE=URI:http://sv.abodiacum-epfach.de/termine/icalrepeat.detail/2025/11/18/1239/-/k
 oenigsschiessen-geiger-matthaeus.html?tmpl=component

DTSTAMP:20260419T171624
DTSTART;TZID=Europe/Berlin:20251118T190000
DTEND;TZID=Europe/Berlin:20251118T235959
RECURRENCE-ID;TZID=Europe/Berlin:20251118T190000
SEQUENCE:0
TRANSP:OPAQUE
END:VEVENT
BEGIN:VEVENT
UID:6c994cfc0062293268a91829411f1727
CATEGORIES:Schützenheim Epfach
CREATED:20250914T193036
SUMMARY:Königsschießen (Malley Jakob)
DESCRIPTION:
URL;VALUE=URI:http://sv.abodiacum-epfach.de/termine/icalrepeat.detail/2025/11/25/1240/-/k
 oenigsschiessen-malley-jakob.html?tmpl=component

DTSTAMP:20260419T171624
DTSTART;TZID=Europe/Berlin:20251125T190000
DTEND;TZID=Europe/Berlin:20251125T235959
RECURRENCE-ID;TZID=Europe/Berlin:20251125T190000
SEQUENCE:0
TRANSP:OPAQUE
END:VEVENT
BEGIN:VEVENT
UID:6c994cfc0062293268a91829411f1727
CATEGORIES:Schützenheim Epfach
CREATED:20250914T193036
SUMMARY:Königsschießen (Karg Markus)
DESCRIPTION:
URL;VALUE=URI:http://sv.abodiacum-epfach.de/termine/icalrepeat.detail/2025/12/02/1241/-/k
 oenigsschiessen-karg-markus.html?tmpl=component

DTSTAMP:20260419T171624
DTSTART;TZID=Europe/Berlin:20251202T190000
DTEND;TZID=Europe/Berlin:20251202T235959
RECURRENCE-ID;TZID=Europe/Berlin:20251202T190000
SEQUENCE:0
TRANSP:OPAQUE
END:VEVENT
BEGIN:VEVENT
UID:6c994cfc0062293268a91829411f1727
CATEGORIES:Schützenheim Epfach
CREATED:20250914T193036
SUMMARY:Nikolaus- & Königsschießen (Arnet Calvin)
DESCRIPTION:
URL;VALUE=URI:http://sv.abodiacum-epfach.de/termine/icalrepeat.detail/2025/12/09/1242/-/n
 ikolaus-koenigsschiessen-arnet-calvin.html?tmpl=component

DTSTAMP:20260419T171624
DTSTART;TZID=Europe/Berlin:20251209T190000
DTEND;TZID=Europe/Berlin:20251209T235959
RECURRENCE-ID;TZID=Europe/Berlin:20251209T190000
SEQUENCE:0
TRANSP:OPAQUE
END:VEVENT
BEGIN:VEVENT
UID:6c994cfc0062293268a91829411f1727
CATEGORIES:Schützenheim Epfach
CREATED:20250914T193036
SUMMARY:Königsschießen (Becher Johann)
DESCRIPTION:
URL;VALUE=URI:http://sv.abodiacum-epfach.de/termine/icalrepeat.detail/2025/12/16/1243/-/k
 oenigsschiessen-becher-johann.html?tmpl=component

DTSTAMP:20260419T171624
DTSTART;TZID=Europe/Berlin:20251216T190000
DTEND;TZID=Europe/Berlin:20251216T235959
RECURRENCE-ID;TZID=Europe/Berlin:20251216T190000
SEQUENCE:0
TRANSP:OPAQUE
END:VEVENT
BEGIN:VEVENT
UID:6c994cfc0062293268a91829411f1727
CATEGORIES:Schützenheim Epfach
CREATED:20250914T193036
SUMMARY:Kegelschießen (Malley Jürgen)
DESCRIPTION:
URL;VALUE=URI:http://sv.abodiacum-epfach.de/termine/icalrepeat.detail/2026/01/13/1247/-/k
 egelschiessen-malley-juergen.html?tmpl=component

DTSTAMP:20260419T171624
DTSTART;TZID=Europe/Berlin:20260113T190000
DTEND;TZID=Europe/Berlin:20260113T235959
RECURRENCE-ID;TZID=Europe/Berlin:20260113T190000
SEQUENCE:0
TRANSP:OPAQUE
END:VEVENT
BEGIN:VEVENT
UID:6c994cfc0062293268a91829411f1727
CATEGORIES:Schützenheim Epfach
CREATED:20250914T193036
SUMMARY:Training (Schweiger Eduard)
DESCRIPTION:
URL;VALUE=URI:http://sv.abodiacum-epfach.de/termine/icalrepeat.detail/2026/01/20/1248/-/t
 raining-schweiger-eduard.html?tmpl=component

DTSTAMP:20260419T171624
DTSTART;TZID=Europe/Berlin:20260120T190000
DTEND;TZID=Europe/Berlin:20260120T235959
RECURRENCE-ID;TZID=Europe/Berlin:20260120T190000
SEQUENCE:0
TRANSP:OPAQUE
END:VEVENT
BEGIN:VEVENT
UID:6c994cfc0062293268a91829411f1727
CATEGORIES:Schützenheim Epfach
CREATED:20250914T193036
SUMMARY:Training (Schweiger Florian)
DESCRIPTION:
URL;VALUE=URI:http://sv.abodiacum-epfach.de/termine/icalrepeat.detail/2026/01/27/1249/-/t
 raining-schweiger-florian.html?tmpl=component

DTSTAMP:20260419T171624
DTSTART;TZID=Europe/Berlin:20260127T190000
DTEND;TZID=Europe/Berlin:20260127T235959
RECURRENCE-ID;TZID=Europe/Berlin:20260127T190000
SEQUENCE:0
TRANSP:OPAQUE
END:VEVENT
BEGIN:VEVENT
UID:6c994cfc0062293268a91829411f1727
CATEGORIES:Schützenheim Epfach
CREATED:20250914T193036
SUMMARY:Training (Volk Wolfgang)
DESCRIPTION:
URL;VALUE=URI:http://sv.abodiacum-epfach.de/termine/icalrepeat.detail/2026/02/03/1250/-/t
 raining-volk-wolfgang.html?tmpl=component

DTSTAMP:20260419T171624
DTSTART;TZID=Europe/Berlin:20260203T190000
DTEND;TZID=Europe/Berlin:20260203T235959
RECURRENCE-ID;TZID=Europe/Berlin:20260203T190000
SEQUENCE:0
TRANSP:OPAQUE
END:VEVENT
BEGIN:VEVENT
UID:6c994cfc0062293268a91829411f1727
CATEGORIES:Schützenheim Epfach
CREATED:20250914T193036
SUMMARY:Training (Volk Georg)
DESCRIPTION:
URL;VALUE=URI:http://sv.abodiacum-epfach.de/termine/icalrepeat.detail/2026/02/10/1251/-/t
 raining-volk-georg.html?tmpl=component

DTSTAMP:20260419T171624
DTSTART;TZID=Europe/Berlin:20260210T190000
DTEND;TZID=Europe/Berlin:20260210T235959
RECURRENCE-ID;TZID=Europe/Berlin:20260210T190000
SEQUENCE:0
TRANSP:OPAQUE
END:VEVENT
BEGIN:VEVENT
UID:6c994cfc0062293268a91829411f1727
CATEGORIES:Schützenheim Epfach
CREATED:20250914T193036
SUMMARY:Training (Malley Jakob)
DESCRIPTION:
URL;VALUE=URI:http://sv.abodiacum-epfach.de/termine/icalrepeat.detail/2026/03/03/1254/-/t
 raining-malley-jakob.html?tmpl=component

DTSTAMP:20260419T171624
DTSTART;TZID=Europe/Berlin:20260303T190000
DTEND;TZID=Europe/Berlin:20260303T235959
RECURRENCE-ID;TZID=Europe/Berlin:20260303T190000
SEQUENCE:0
TRANSP:OPAQUE
END:VEVENT
BEGIN:VEVENT
UID:6c994cfc0062293268a91829411f1727
CATEGORIES:Schützenheim Epfach
CREATED:20250914T193036
SUMMARY:Training (Arnet Calvin)
DESCRIPTION:
URL;VALUE=URI:http://sv.abodiacum-epfach.de/termine/icalrepeat.detail/2026/03/10/1255/-/t
 raining-arnet-calvin.html?tmpl=component

DTSTAMP:20260419T171624
DTSTART;TZID=Europe/Berlin:20260310T190000
DTEND;TZID=Europe/Berlin:20260310T235959
RECURRENCE-ID;TZID=Europe/Berlin:20260310T190000
SEQUENCE:0
TRANSP:OPAQUE
END:VEVENT
BEGIN:VEVENT
UID:6c994cfc0062293268a91829411f1727
CATEGORIES:Schützenheim Epfach
CREATED:20250914T193036
SUMMARY:Training (Becher Johann)
DESCRIPTION:
URL;VALUE=URI:http://sv.abodiacum-epfach.de/termine/icalrepeat.detail/2026/03/17/1256/-/t
 raining-becher-johann.html?tmpl=component

DTSTAMP:20260419T171624
DTSTART;TZID=Europe/Berlin:20260317T190000
DTEND;TZID=Europe/Berlin:20260317T235959
RECURRENCE-ID;TZID=Europe/Berlin:20260317T190000
SEQUENCE:0
TRANSP:OPAQUE
END:VEVENT
BEGIN:VEVENT
UID:6c994cfc0062293268a91829411f1727
CATEGORIES:Schützenheim Epfach
CREATED:20250914T193036
SUMMARY:Training (Karg Markus)
DESCRIPTION:
URL;VALUE=URI:http://sv.abodiacum-epfach.de/termine/icalrepeat.detail/2026/03/24/1257/-/t
 raining-karg-markus.html?tmpl=component

DTSTAMP:20260419T171624
DTSTART;TZID=Europe/Berlin:20260324T190000
DTEND;TZID=Europe/Berlin:20260324T235959
RECURRENCE-ID;TZID=Europe/Berlin:20260324T190000
SEQUENCE:0
TRANSP:OPAQUE
END:VEVENT
END:VCALENDAR